BEGIN:VCALENDAR
VERSION:2.0
PRODID:spatie/icalendar-generator
DESCRIPTION:Veranstaltungen von Kgl. Priv. FSG Buchloe
X-WR-CALDESC:Veranstaltungen von Kgl. Priv. FSG Buchloe
REFRESH-INTERVAL;VALUE=DURATION:PT1440M
X-PUBLISHED-TTL:PT1440M
BEGIN:VTIMEZONE
TZID:Europe/Berlin
BEGIN:STANDARD
DTSTART:20181028T030000Z
TZOFFSETFROM:+0200
TZOFFSETTO:+0100
END:STANDARD
BEGIN:DAYLIGHT
DTSTART:20190331T020000Z
TZOFFSETFROM:+0100
TZOFFSETTO:+0200
END:DAYLIGHT
BEGIN:STANDARD
DTSTART:20191027T030000Z
TZOFFSETFROM:+0200
TZOFFSETTO:+0100
END:STANDARD
END:VTIMEZONE
BEGIN:VTIMEZONE
TZID:UTC
BEGIN:STANDARD
DTSTART:20250725T092356Z
TZOFFSETFROM:+0000
TZOFFSETTO:+0000
END:STANDARD
END:VTIMEZONE
BEGIN:VEVENT
UID:108-64
DTSTAMP:20260421T092356Z
SUMMARY:Grill- und Spartenfest
LOCATION:
ORGANIZER;CN=Manfred Weischer:MAILTO:manfred.weischer@arcor.de
DTSTART;TZID=Europe/Berlin;VALUE=DATE:20190629
DTEND;TZID=Europe/Berlin;VALUE=DATE:20190630
X-ALT-DESC;FMTTYPE=TEXT/HTML:
CATEGORIES:Verein
URL;VALUE=URI:http://www.fsg-buchloe.de/mc-events/grill-und-spartenfest/
METHOD:PUBLISH
END:VEVENT
END:VCALENDAR