BEGIN:VCALENDAR
VERSION:2.0
PRODID:spatie/icalendar-generator
DESCRIPTION:Veranstaltungen von Kgl. Priv. FSG Buchloe
X-WR-CALDESC:Veranstaltungen von Kgl. Priv. FSG Buchloe
REFRESH-INTERVAL;VALUE=DURATION:PT1440M
X-PUBLISHED-TTL:PT1440M
BEGIN:VTIMEZONE
TZID:Europe/Berlin
BEGIN:DAYLIGHT
DTSTART:20220327T020000Z
TZOFFSETFROM:+0100
TZOFFSETTO:+0200
END:DAYLIGHT
BEGIN:STANDARD
DTSTART:20221030T030000Z
TZOFFSETFROM:+0200
TZOFFSETTO:+0100
END:STANDARD
BEGIN:DAYLIGHT
DTSTART:20230326T020000Z
TZOFFSETFROM:+0100
TZOFFSETTO:+0200
END:DAYLIGHT
END:VTIMEZONE
BEGIN:VTIMEZONE
TZID:UTC
BEGIN:STANDARD
DTSTART:20250725T100944Z
TZOFFSETFROM:+0000
TZOFFSETTO:+0000
END:STANDARD
END:VTIMEZONE
BEGIN:VEVENT
UID:159-109
DTSTAMP:20260421T100944Z
SUMMARY:Nikolausschießen 2022
LOCATION:
ORGANIZER;CN=Robert Ebeler:MAILTO:Luftdruck@fsg-buchloe.de
DTSTART;TZID=Europe/Berlin:20221209T180000
DTEND;TZID=Europe/Berlin:20221209T220000
X-ALT-DESC;FMTTYPE=TEXT/HTML:
CATEGORIES:Luftdruck,  Pistole
URL;VALUE=URI:https://www.fsg-buchloe.de/mc-events/nikolausschiessen-2022/
METHOD:PUBLISH
END:VEVENT
END:VCALENDAR