BEGIN:VCALENDAR
VERSION:2.0
PRODID:spatie/icalendar-generator
DESCRIPTION:Veranstaltungen von Kgl. Priv. FSG Buchloe
X-WR-CALDESC:Veranstaltungen von Kgl. Priv. FSG Buchloe
REFRESH-INTERVAL;VALUE=DURATION:PT1440M
X-PUBLISHED-TTL:PT1440M
BEGIN:VTIMEZONE
TZID:Europe/Berlin
BEGIN:STANDARD
DTSTART:20171029T030000Z
TZOFFSETFROM:+0200
TZOFFSETTO:+0100
END:STANDARD
BEGIN:DAYLIGHT
DTSTART:20180325T020000Z
TZOFFSETFROM:+0100
TZOFFSETTO:+0200
END:DAYLIGHT
BEGIN:STANDARD
DTSTART:20181028T030000Z
TZOFFSETFROM:+0200
TZOFFSETTO:+0100
END:STANDARD
END:VTIMEZONE
BEGIN:VTIMEZONE
TZID:UTC
BEGIN:STANDARD
DTSTART:20250725T102551Z
TZOFFSETFROM:+0000
TZOFFSETTO:+0000
END:STANDARD
END:VTIMEZONE
BEGIN:VEVENT
UID:60-21
DTSTAMP:20260421T102551Z
SUMMARY:GRILLFEST FSG Buchloe
LOCATION:
ORGANIZER;CN=WebAdmin-FSG:MAILTO:m.weischer@arcor.de
DTSTART;TZID=Europe/Berlin;VALUE=DATE:20180707
DTEND;TZID=Europe/Berlin;VALUE=DATE:20180708
X-ALT-DESC;FMTTYPE=TEXT/HTML:alle Sparten
CATEGORIES:Verein
URL;VALUE=URI:https://www.fsg-buchloe.de/mc-events/grillfest-fsg-buchloe/
METHOD:PUBLISH
END:VEVENT
END:VCALENDAR