BEGIN:VCALENDAR
VERSION:2.0
PRODID:spatie/icalendar-generator
DESCRIPTION:Veranstaltungen von Kgl. Priv. FSG Buchloe
X-WR-CALDESC:Veranstaltungen von Kgl. Priv. FSG Buchloe
REFRESH-INTERVAL;VALUE=DURATION:PT1440M
X-PUBLISHED-TTL:PT1440M
BEGIN:VTIMEZONE
TZID:Europe/Berlin
BEGIN:STANDARD
DTSTART:20181028T030000Z
TZOFFSETFROM:+0200
TZOFFSETTO:+0100
END:STANDARD
BEGIN:DAYLIGHT
DTSTART:20190331T020000Z
TZOFFSETFROM:+0100
TZOFFSETTO:+0200
END:DAYLIGHT
END:VTIMEZONE
BEGIN:VTIMEZONE
TZID:UTC
BEGIN:STANDARD
DTSTART:20250725T090335Z
TZOFFSETFROM:+0000
TZOFFSETTO:+0000
END:STANDARD
END:VTIMEZONE
BEGIN:VEVENT
UID:107-63
DTSTAMP:20260421T090335Z
SUMMARY:Generalversammlung
LOCATION:
ORGANIZER;CN=Manfred Weischer:MAILTO:manfred.weischer@arcor.de
DTSTART;TZID=Europe/Berlin:20190322T200000
DTEND;TZID=Europe/Berlin:20190322T210000
X-ALT-DESC;FMTTYPE=TEXT/HTML:
CATEGORIES:Verein
URL;VALUE=URI:https://www.fsg-buchloe.de/mc-events/generalversammlung-2/
METHOD:PUBLISH
END:VEVENT
END:VCALENDAR