BEGIN:VCALENDAR
VERSION:2.0
PRODID:spatie/icalendar-generator
DESCRIPTION:Veranstaltungen von Kgl. Priv. FSG Buchloe
X-WR-CALDESC:Veranstaltungen von Kgl. Priv. FSG Buchloe
REFRESH-INTERVAL;VALUE=DURATION:PT1440M
X-PUBLISHED-TTL:PT1440M
BEGIN:VTIMEZONE
TZID:Europe/Berlin
BEGIN:DAYLIGHT
DTSTART:20210328T020000Z
TZOFFSETFROM:+0100
TZOFFSETTO:+0200
END:DAYLIGHT
BEGIN:STANDARD
DTSTART:20211031T030000Z
TZOFFSETFROM:+0200
TZOFFSETTO:+0100
END:STANDARD
END:VTIMEZONE
BEGIN:VTIMEZONE
TZID:UTC
BEGIN:STANDARD
DTSTART:20250725T090240Z
TZOFFSETFROM:+0000
TZOFFSETTO:+0000
END:STANDARD
END:VTIMEZONE
BEGIN:VEVENT
UID:155-105
DTSTAMP:20260421T090240Z
SUMMARY:Grill- und Vereinsfestfest
LOCATION:
ORGANIZER;CN=Robert Ebeler:MAILTO:Luftdruck@fsg-buchloe.de
DTSTART;TZID=Europe/Berlin:20210814T120000
DTEND;TZID=Europe/Berlin:20210815T000000
X-ALT-DESC;FMTTYPE=TEXT/HTML:Am Samstag\, den 14. August 2021 findet nach d
 er Corona Pause wieder ein Grill- und Vereinsfest beim Schützenheim statt
 . Alle Vereinsmitglieder sind herzlich eingeladen. (Wer sich noch nicht in
  die Teilnehmerliste eingetragen hat\, möge sein Kommen bitte dem 1. Sch
 ützenmeister mitteilen.)
CATEGORIES:Verein
URL;VALUE=URI:https://www.fsg-buchloe.de/mc-events/grill-und-vereinsfestfes
 t/
METHOD:PUBLISH
END:VEVENT
END:VCALENDAR