BEGIN:VCALENDAR
VERSION:2.0
PRODID:spatie/icalendar-generator
DESCRIPTION:Veranstaltungen von Kgl. Priv. FSG Buchloe
X-WR-CALDESC:Veranstaltungen von Kgl. Priv. FSG Buchloe
REFRESH-INTERVAL;VALUE=DURATION:PT1440M
X-PUBLISHED-TTL:PT1440M
BEGIN:VTIMEZONE
TZID:Europe/Berlin
BEGIN:STANDARD
DTSTART:20211031T030000Z
TZOFFSETFROM:+0200
TZOFFSETTO:+0100
END:STANDARD
BEGIN:DAYLIGHT
DTSTART:20220327T020000Z
TZOFFSETFROM:+0100
TZOFFSETTO:+0200
END:DAYLIGHT
BEGIN:STANDARD
DTSTART:20221030T030000Z
TZOFFSETFROM:+0200
TZOFFSETTO:+0100
END:STANDARD
END:VTIMEZONE
BEGIN:VTIMEZONE
TZID:UTC
BEGIN:STANDARD
DTSTART:20250725T090313Z
TZOFFSETFROM:+0000
TZOFFSETTO:+0000
END:STANDARD
END:VTIMEZONE
BEGIN:VEVENT
UID:158-108
DTSTAMP:20260421T090313Z
SUMMARY:Sommerfest aller Sparten
LOCATION:
ORGANIZER;CN=WebAdmin-FSG:MAILTO:m.weischer@arcor.de
DTSTART;TZID=Europe/Berlin:20220723T130000
DTEND;TZID=Europe/Berlin:20220723T140000
X-ALT-DESC;FMTTYPE=TEXT/HTML:Am 23.07.2022 findet unser gemeinsames Grillfe
 st statt. Teilnehmerlisten liegen im Schützenstüberl aus. Bitte um Eintr
 äge wer teilnehmen möchte und was Ihr zum Grillfest mitbringen wollt. St
 art ist am frühen Nachmittag. An diesem Tag wollen wir auch den neuen Sch
 ützenkönig ehren. Ich bitte um zahlreiche Teilnahmen. Ich freue mich auf
  ein schönes Fest Euer 1. Schützenmeister&amp;hellip\;
CATEGORIES:Verein
URL;VALUE=URI:https://www.fsg-buchloe.de/mc-events/sommerfest-aller-sparten
 /
METHOD:PUBLISH
END:VEVENT
END:VCALENDAR