BEGIN:VCALENDAR
VERSION:2.0
PRODID:spatie/icalendar-generator
DESCRIPTION:Veranstaltungen von Kgl. Priv. FSG Buchloe
X-WR-CALDESC:Veranstaltungen von Kgl. Priv. FSG Buchloe
REFRESH-INTERVAL;VALUE=DURATION:PT1440M
X-PUBLISHED-TTL:PT1440M
BEGIN:VTIMEZONE
TZID:Europe/Berlin
BEGIN:STANDARD
DTSTART:20221030T030000Z
TZOFFSETFROM:+0200
TZOFFSETTO:+0100
END:STANDARD
BEGIN:DAYLIGHT
DTSTART:20230326T020000Z
TZOFFSETFROM:+0100
TZOFFSETTO:+0200
END:DAYLIGHT
BEGIN:STANDARD
DTSTART:20231029T030000Z
TZOFFSETFROM:+0200
TZOFFSETTO:+0100
END:STANDARD
END:VTIMEZONE
BEGIN:VTIMEZONE
TZID:UTC
BEGIN:STANDARD
DTSTART:20250725T084659Z
TZOFFSETFROM:+0000
TZOFFSETTO:+0000
END:STANDARD
END:VTIMEZONE
BEGIN:VEVENT
UID:163-113
DTSTAMP:20260421T084659Z
SUMMARY:Gau-Meisterschaft Bogen
LOCATION:
ORGANIZER;CN=WebAdmin-FSG:MAILTO:m.weischer@arcor.de
DTSTART;TZID=Europe/Berlin:20230429T133000
DTEND;TZID=Europe/Berlin:20230429T170000
X-ALT-DESC;FMTTYPE=TEXT/HTML:Gau-Meisterschaft Bogen Samstag\, 29. April 20
 23 13:30 Startnummernausgabe 13:45 Begrüßung 13:50 Probepfeile 14:10 Sta
 rt Wertungsdurchgang Startberechtigt sind alle Schützen des Gau Türkheim
  mit gültigem Schützenausweis. Zur Kontrolle der Startberechtigung ist d
 er Schützenausweis des BSSB\, sowie ein amtlicher Lichtbildausweis mitzuf
 ühren. Diese Ausweispapiere sind bei der Startnummernausgabe unaufgeforde
 rt vorzuzeigen.
CATEGORIES:Bogen
URL;VALUE=URI:https://www.fsg-buchloe.de/mc-events/gau-meisterschaft-bogen/
METHOD:PUBLISH
END:VEVENT
END:VCALENDAR