BEGIN:VCALENDAR
VERSION:2.0
PRODID:spatie/icalendar-generator
DESCRIPTION:Veranstaltungen von Kgl. Priv. FSG Buchloe
X-WR-CALDESC:Veranstaltungen von Kgl. Priv. FSG Buchloe
REFRESH-INTERVAL;VALUE=DURATION:PT1440M
X-PUBLISHED-TTL:PT1440M
BEGIN:VTIMEZONE
TZID:Europe/Berlin
BEGIN:DAYLIGHT
DTSTART:20180325T020000Z
TZOFFSETFROM:+0100
TZOFFSETTO:+0200
END:DAYLIGHT
BEGIN:STANDARD
DTSTART:20181028T030000Z
TZOFFSETFROM:+0200
TZOFFSETTO:+0100
END:STANDARD
END:VTIMEZONE
BEGIN:VTIMEZONE
TZID:UTC
BEGIN:STANDARD
DTSTART:20250725T084628Z
TZOFFSETFROM:+0000
TZOFFSETTO:+0000
END:STANDARD
END:VTIMEZONE
BEGIN:VEVENT
UID:70-28
DTSTAMP:20260421T084628Z
SUMMARY:Faszination Bogenschießen
LOCATION:
ORGANIZER;CN=Manfred Weischer:MAILTO:manfred.weischer@arcor.de
DTSTART;TZID=Europe/Berlin:20180811T090000
DTEND;TZID=Europe/Berlin:20180811T120000
X-ALT-DESC;FMTTYPE=TEXT/HTML:Angebot für die Ferienfreizeit Buchloe
CATEGORIES:Bogen
URL;VALUE=URI:https://www.fsg-buchloe.de/mc-events/faszination-bogenschiess
 en-2/
METHOD:PUBLISH
END:VEVENT
END:VCALENDAR